BEGIN:VCALENDAR
VERSION:2.0
PRODID:-//ChamberMaster//Event Calendar 2.0//EN
METHOD:PUBLISH
X-PUBLISHED-TTL:P3D
REFRESH-INTERVAL:P3D
CALSCALE:GREGORIAN
BEGIN:VEVENT
DTSTART:20160624T150000Z
DTEND:20160624T220000Z
X-MICROSOFT-CDO-ALLDAYEVENT:FALSE
SUMMARY:NAIFA Central Nebraska/Yanney Heritage Park Foundation Golf Tournament
DESCRIPTION:4 person team - 18 hole scramble\n\n$300 per team- Lunch is provided\n\n10am free range balls\n\nShotgun start at 11am\, meal to follow\n\n$100 hole sponsorships are available\n\n\n\nPlease return this form to:\n\nRobyn Bowman\n\nP.O. Box 1180\n\nKearney\, NE 68848\n\n*Make check payable to Yanney Heritage Park Foundation*
X-ALT-DESC;FMTTYPE=text/html:4 person team - 18 hole scramble<br />\n$300 per team- Lunch is provided<br />\n10am&nbsp\;free range balls<br />\nShotgun start at 11am\, meal to follow<br />\n$100 hole sponsorships are available<br />\n<br />\nPlease return <u><a href="https://chambermaster.blob.core.windows.net/userfiles/UserFiles/chambers/1404/File/YanneyPark_GolfFlyer2016002.pdf">this form</a></u>&nbsp\;to:<br />\nRobyn Bowman<br />\nP.O. Box 1180<br />\nKearney\, NE 68848<br />\n<strong>*Make check payable to Yanney Heritage Park Foundation*</strong>
LOCATION:Meadowlark Hills Golf Course 3300 30th Ave. Kearney\, NE 68845
UID:e.1404.8755
SEQUENCE:3
DTSTAMP:20260421T184752Z
URL:https://members.kearneycoc.org/events/details/naifa-central-nebraska-yanney-heritage-park-foundation-golf-tournament-06-24-2016-8755
END:VEVENT

END:VCALENDAR
