BEGIN:VCALENDAR
VERSION:2.0
PRODID:-//ChamberMaster//Event Calendar 2.0//EN
METHOD:PUBLISH
X-PUBLISHED-TTL:P3D
REFRESH-INTERVAL:P3D
CALSCALE:GREGORIAN
BEGIN:VEVENT
DTSTART:20160208T223000Z
DTEND:20160209T010000Z
X-MICROSOFT-CDO-ALLDAYEVENT:FALSE
SUMMARY:NASA Astronaut Meet & Greet
DESCRIPTION:Clayton Anderson\, Nebraska's one and only astronaut\, is coming to the children's museum! In partnership with The Solid Rock bookstore\, Clayton will be signing his book "The Ordinary Spaceman" from 4:30-7:00 pm. Pictures for the younger kids will be available that Clayton can sign too.
X-ALT-DESC;FMTTYPE=text/html:<strong style="line-height: 20.8px\;"><span style="font-family: arial\;"><span style="font-size: 12pt\;">Clayton Anderson\, Nebraska&#39\;s one and only astronaut\, is coming to the children&rsquo\;s museum! In partnership with The Solid Rock bookstore\, Clayton will be signing his book &quot\;The Ordinary Spaceman&quot\; from 4:30-7:00 pm. Pictures for the younger kids will be available that Clayton can sign too</span></span><span style="color: rgb(20\, 24\, 35)\;"><span style="font-family: arial\;"><span style="font-size: 12pt\;">.</span></span></span></strong>
LOCATION:Kearney Area Children's Museum
UID:e.1404.7501
SEQUENCE:3
DTSTAMP:20260422T012228Z
URL:https://members.kearneycoc.org/events/details/nasa-astronaut-meet-greet-02-08-2016-7501
END:VEVENT

END:VCALENDAR
