BEGIN:VCALENDAR
VERSION:2.0
PRODID:-//ChamberMaster//Event Calendar 2.0//EN
METHOD:PUBLISH
X-PUBLISHED-TTL:P3D
REFRESH-INTERVAL:P3D
CALSCALE:GREGORIAN
BEGIN:VEVENT
DTSTART:20190630T003000Z
DTEND:20190630T023000Z
X-MICROSOFT-CDO-ALLDAYEVENT:FALSE
SUMMARY:National Lampoon's Vacation - The World Theatre
DESCRIPTION:Join us for a weekend full of FREE MOVIES to celebrate our 7th Birthday for The World Theatre! A different movie every day\, see them all! Clark Griswold is on a quest to take his family on a quest to Walley World theme park for a vacation\, but things don't go exactly as planned.
X-ALT-DESC;FMTTYPE=text/html:Join us for a weekend full of FREE MOVIES to celebrate our 7th Birthday for The World Theatre! A different movie every day\, see them all! Clark Griswold is on a quest to take his family on a quest to Walley World theme park for a vacation\, but things don&#39\;t go exactly as planned.
LOCATION:The World Theatre 2318 Central Avenue Kearney NE 68847
UID:e.1404.16531
SEQUENCE:3
DTSTAMP:20260425T231328Z
URL:https://members.kearneycoc.org/events/details/national-lampoon-s-vacation-the-world-theatre-16531
END:VEVENT

END:VCALENDAR
