BEGIN:VCALENDAR
VERSION:2.0
PRODID:-//ChamberMaster//Event Calendar 2.0//EN
METHOD:PUBLISH
X-PUBLISHED-TTL:P3D
REFRESH-INTERVAL:P3D
CALSCALE:GREGORIAN
BEGIN:VEVENT
DTSTART;VALUE=DATE:20150429
DTEND;VALUE=DATE:20150430
TRANSP:TRANSPARENT
X-MICROSOFT-CDO-ALLDAYEVENT:TRUE
SUMMARY:National Walk at Lunch Day
DESCRIPTION:Blue Cross and Blue Shield of Nebraska is challenging Nebraskans to participate in National Walk at Lunch Day on April 29\, 2015. Participation is simple   take the pledge at nebraskablue.com/walk to walk during lunchtime (or any other time frame that works on your schedule) for 30 minutes.
X-ALT-DESC;FMTTYPE=text/html:Blue Cross and Blue Shield of Nebraska is challenging Nebraskans to participate in National Walk at Lunch Day on April 29\, 2015. Participation is simple &ndash\; take the pledge at nebraskablue.com/walk to walk during lunchtime (or any other time frame that works on your schedule) for 30 minutes.
LOCATION:
UID:e.1404.6191
SEQUENCE:3
DTSTAMP:20260422T182318Z
URL:https://members.kearneycoc.org/events/details/national-walk-at-lunch-day-04-29-2015-6191
END:VEVENT

END:VCALENDAR
