BEGIN:VCALENDAR
VERSION:2.0
PRODID:-//ChamberMaster//Event Calendar 2.0//EN
METHOD:PUBLISH
X-PUBLISHED-TTL:P3D
REFRESH-INTERVAL:P3D
CALSCALE:GREGORIAN
BEGIN:VEVENT
DTSTART:20150228T230000Z
DTEND:20150301T040000Z
X-MICROSOFT-CDO-ALLDAYEVENT:FALSE
SUMMARY:National Wild Turkey Federation 15th Annual Banquet
DESCRIPTION:The Fort Kearny Thundering Toms (local affiliate chapter of the National Wild Turkey Federation) is having is 15th Annual Banquet on February 28\, 2015 at the Kearney Holiday Inn\, with doors opening at 5:00 P. M.  Dinner will follow at 7:00 P. M. with an auction and raffles to follow. Several levels of sponsorship and support are available as well as attractive packages of raffle tickets\, membership renewals\, and drawings for valuable prizes. We invite you to attend and help support the local efforts to sustain\, maintain\, and improve habitat and hunting opportunities for one of Nebraska's best success stories-wild turkeys. The explosive growth in turkey numbers and the state-wide opportunities to hunt this great game animal has been made possible with the support of hunters and conservationists like you over the years. Please consider supporting this event locally.
X-ALT-DESC;FMTTYPE=text/html:<span style="font-size:14px\;"><span style="font-family:calibri\,sans-serif\;">The Fort Kearny Thundering Toms (local affiliate chapter of the National Wild Turkey Federation) is having is 15<sup>th</sup> Annual Banquet on February 28\, 2015 at the Kearney Holiday Inn\, with doors opening at 5:00 P. M. &nbsp\;Dinner will follow at 7:00 P. M. with an auction and raffles to follow. Several levels of sponsorship and support are available as well as attractive packages of raffle tickets\, membership renewals\, and drawings for valuable prizes. We invite you to attend and help support the local efforts to sustain\, maintain\, and improve habitat and hunting opportunities for one of Nebraska&rsquo\;s best success stories-wild turkeys. The explosive growth in turkey numbers and the state-wide opportunities to hunt this great game animal has been made possible with the support of hunters and conservationists like you over the years. Please consider supporting this event locally.&nbsp\;</span></span>
LOCATION:Holiday Inn 110 S. 2nd Ave Kearney NE 68848
UID:e.1404.5997
SEQUENCE:3
DTSTAMP:20260422T212618Z
URL:https://members.kearneycoc.org/events/details/national-wild-turkey-federation-15th-annual-banquet-02-28-2015-5997
END:VEVENT

END:VCALENDAR
