BEGIN:VCALENDAR
VERSION:2.0
PRODID:-//ChamberMaster//Event Calendar 2.0//EN
METHOD:PUBLISH
X-PUBLISHED-TTL:P3D
REFRESH-INTERVAL:P3D
CALSCALE:GREGORIAN
BEGIN:VEVENT
DTSTART:20211019T180000Z
DTEND:20211019T220000Z
X-MICROSOFT-CDO-ALLDAYEVENT:FALSE
SUMMARY:NBDC - Meet the Buyers Conference
DESCRIPTION:Tuesday\, October 19 | 1 - 5 PM CDT | FREE University of Nebraska Kearney | 1013 W 27th St Kearney\, NE 68845\n\nFor more information\, please contact Daniel Kuchar at dckuchar@unomaha.edu or call 402-554-6270. We look forward to seeing you at the conference! GET REGISTERED AT MTB2021.EVENTBRITE.COM
X-ALT-DESC;FMTTYPE=text/html:Tuesday\, October 19 | 1 - 5 PM CDT | FREE University of Nebraska Kearney | 1013 W 27th St Kearney\, NE 68845<br />\nFor more information\, please contact Daniel Kuchar at dckuchar@unomaha.edu or call 402-554-6270. We look forward to seeing you at the conference! GET REGISTERED AT MTB2021.EVENTBRITE.COM
LOCATION:
UID:e.1404.19375
SEQUENCE:3
DTSTAMP:20260423T233306Z
URL:https://members.kearneycoc.org/events/details/nbdc-meet-the-buyers-conference-19375
END:VEVENT

END:VCALENDAR
