BEGIN:VCALENDAR
VERSION:2.0
PRODID:-//ChamberMaster//Event Calendar 2.0//EN
METHOD:PUBLISH
X-PUBLISHED-TTL:P3D
REFRESH-INTERVAL:P3D
CALSCALE:GREGORIAN
BEGIN:VEVENT
DTSTART:20140405T163000Z
DTEND:20140405T213000Z
X-MICROSOFT-CDO-ALLDAYEVENT:FALSE
SUMMARY:Nebraska Admirals Association Annual Conference & Scholarship Recognition Luncheon
DESCRIPTION:Annual Meeting of the Nebraska Admirals Association \n\nRecognition of Scholarship Winners from University of Nebraska at Kearney and University of Nebraska Lincoln whose major is in Tourism\n\nVisit the Governor's Residence to see the recently-recovered silver items originally on the battleship USS NEBRASKA
X-ALT-DESC;FMTTYPE=text/html:Annual Meeting of the Nebraska Admirals Association&nbsp\;<br />\nRecognition of Scholarship Winners from University of Nebraska at Kearney and University of Nebraska Lincoln whose major is in Tourism<br />\nVisit the Governor&#39\;s Residence to see the recently-recovered silver items originally on the battleship USS NEBRASKA
LOCATION:East Campus\, University of Nebraska Lincoln
UID:e.1404.4502
SEQUENCE:3
DTSTAMP:20260423T150024Z
URL:https://members.kearneycoc.org/events/details/nebraska-admirals-association-annual-conference-scholarship-recognition-luncheon-04-05-2014-4502
END:VEVENT

END:VCALENDAR
