BEGIN:VCALENDAR
VERSION:2.0
PRODID:-//ChamberMaster//Event Calendar 2.0//EN
METHOD:PUBLISH
X-PUBLISHED-TTL:P3D
REFRESH-INTERVAL:P3D
CALSCALE:GREGORIAN
BEGIN:VEVENT
DTSTART:20121211T173000Z
DTEND:20121211T190000Z
X-MICROSOFT-CDO-ALLDAYEVENT:FALSE
SUMMARY:Nebraska Budget & Tax Policy Discussion
DESCRIPTION:OpenSky Policy Institute's Executive Director Renee Fry will present  findings from OpenSky's foundational primer\, Looking for Clarity\, a concise summary of Nebraska budget and tax policy. She will provide an overview of how Nebraska collects and spends funds\, and will review larger spending trends and discuss emerging challenges. OpenSky Policy Institute is a non-partisan think tank focused on budget and tax policy in Nebraska. Their mission is to improve opportunities for ever Nebraska by providing impartial and precise research\, analysis\, education\, and leadership.
X-ALT-DESC;FMTTYPE=text/html:OpenSky Policy Institute&#39\;s Executive Director Renee Fry will present &nbsp\;findings from OpenSky&#39\;s foundational primer\, Looking for Clarity\, a concise summary of Nebraska budget and tax policy. She will provide an overview of how Nebraska collects and spends funds\, and will review larger spending trends and discuss emerging challenges. OpenSky Policy Institute is a non-partisan think tank focused on budget and tax policy in Nebraska. Their mission is to improve opportunities for ever Nebraska by providing impartial and precise research\, analysis\, education\, and leadership.
LOCATION:Kearney Area Chamber of Commerce Board Room 1007 2nd Avenue
UID:e.1404.2209
SEQUENCE:3
DTSTAMP:20260424T191549Z
URL:https://members.kearneycoc.org/events/details/nebraska-budget-tax-policy-discussion-12-11-2012-2209
END:VEVENT

END:VCALENDAR
