BEGIN:VCALENDAR
VERSION:2.0
PRODID:-//ChamberMaster//Event Calendar 2.0//EN
METHOD:PUBLISH
X-PUBLISHED-TTL:P3D
REFRESH-INTERVAL:P3D
CALSCALE:GREGORIAN
BEGIN:VEVENT
DTSTART:20121002T130000Z
DTEND:20121002T140000Z
X-MICROSOFT-CDO-ALLDAYEVENT:FALSE
SUMMARY:Nebraska Chamber of Commerce & Industry Fall Legislative Forum
DESCRIPTION:Nebraska Chamber Legislative Fall Forum.\n\n	State Chamber President\, Barry Kennedy\, Vice-President Jamie Karl will present on upcoming Unicameral issues\, key races\, committee assignments and more.  Senator Galen Hadley and Candidate Joe Woodward will be presenting.  Richard Baier\, Forging Nebraska's Future will also present.  Breakfast provided\, please RSVP to the chamber at 237-3101
X-ALT-DESC;FMTTYPE=text/html:<p>\n	Nebraska Chamber Legislative Fall Forum.<br />\n	State Chamber President\, Barry Kennedy\, Vice-President Jamie Karl will present on upcoming Unicameral issues\, key races\, committee assignments and more.&nbsp\; Senator Galen Hadley and Candidate Joe Woodward will be presenting.&nbsp\; Richard Baier\, Forging Nebraska&#39\;s Future will also present.&nbsp\; Breakfast provided\, please RSVP to the chamber at 237-3101</p>\n
LOCATION:
UID:e.1404.2193
SEQUENCE:3
DTSTAMP:20260425T002438Z
URL:https://members.kearneycoc.org/events/details/nebraska-chamber-of-commerce-industry-fall-legislative-forum-10-02-2012-2193
END:VEVENT

END:VCALENDAR
