BEGIN:VCALENDAR
VERSION:2.0
PRODID:-//ChamberMaster//Event Calendar 2.0//EN
METHOD:PUBLISH
X-PUBLISHED-TTL:P3D
REFRESH-INTERVAL:P3D
CALSCALE:GREGORIAN
BEGIN:VEVENT
DTSTART:20130824T000000Z
DTEND:20130824T030000Z
X-MICROSOFT-CDO-ALLDAYEVENT:FALSE
SUMMARY:Nebraska Chamber Players Concert featuring Nathan Pacheco
DESCRIPTION:The Nebraska Chamber Players with world renown tenor Nathan Pacheco will perform at 7:00 p.m.  this Friday.  The Chamber Players are well known across Nebraska and are "in residence" at NET Radio appearing regularly on "Nebraska Concerts" and "Friday Live".  Mr. Pacheco has sung with Yanni\, is currently a recording artist with the Disney Pearl Series and was the subject of a PBS special first aired in August 2011 titled "Introducing Nathan Pacheco".\n\n\n\nJoin us early for light hors d'oeuvres at 6:00 and meet Mr. Pacheco and the chamber players for a dessert reception after the concert.  This concert is sponsored by the Nebraska Arts Council and the Nebraska Cultural Endowment
X-ALT-DESC;FMTTYPE=text/html:The Nebraska Chamber Players with world renown tenor Nathan Pacheco will perform at 7:00 p.m. &nbsp\;this Friday. &nbsp\;The Chamber Players are well known across Nebraska and are &quot\;in residence&quot\; at NET Radio appearing regularly on &quot\;Nebraska Concerts&quot\; and &quot\;Friday Live&quot\;. &nbsp\;Mr. Pacheco has sung with Yanni\, is currently a recording artist with the Disney Pearl Series and was the subject of a PBS special first aired in August 2011 titled &quot\;Introducing Nathan Pacheco&quot\;.<br />\n<br />\nJoin us early for light hors d&#39\;oeuvres at 6:00 and meet Mr. Pacheco and the chamber players for a dessert reception after the concert. &nbsp\;This concert is sponsored by the Nebraska Arts Council and the Nebraska Cultural Endowment
LOCATION:The World Theatre in beautiful downtown Kearney
UID:e.1404.3292
SEQUENCE:3
DTSTAMP:20260424T040109Z
URL:https://members.kearneycoc.org/events/details/nebraska-chamber-players-concert-featuring-nathan-pacheco-08-23-2013-3292
END:VEVENT

END:VCALENDAR
