BEGIN:VCALENDAR
VERSION:2.0
PRODID:-//ChamberMaster//Event Calendar 2.0//EN
METHOD:PUBLISH
X-PUBLISHED-TTL:P3D
REFRESH-INTERVAL:P3D
CALSCALE:GREGORIAN
BEGIN:VEVENT
DTSTART:20201104T143000Z
DTEND:20201104T160000Z
X-MICROSOFT-CDO-ALLDAYEVENT:FALSE
SUMMARY:Nebraska Chamber's Virtual Fall Forum
DESCRIPTION:NE Chamber's Virtual Fall Forums - Straight Talk with State Leaders\n\nA frank discussion with local and state chamber members on economic advancement for the region and state heading in the election year.\n\n\n\n \n\nGuest Speakers\n\nBryan Slone\, President\, NE Chamber\n\nJim Smith\, President\, Blueprint Nebraska\n\nMatt Gotschall\, President\, Central Community College\n\nNebraska Senators and Senators-Elect\n\n\n\nPlease click this URL to join. https://zoom.us/w/95555219430?tk=tQ9q6fL15BCk4bxr9jhGoeFxjLtQ-yKpNNHHNvRM_8w.DQIAAAAWP4jv5hZkNWZhYlNDSVFYZVViU29Ic3FVV2NBAAAAAAAAAAAAAAAAAAAAAAAAAAAA&pwd=Wm41Yjl3OXdzY096YStlSnJlUlc1dz09&uuid=WN_Qxe-KaYbTvKxJTs5dmijFA
X-ALT-DESC;FMTTYPE=text/html:<p style="margin: 0px\; padding: 0px\; line-height: 1.5\; box-sizing: border-box\; color: rgb(0\, 0\, 0)\; font-family: Roboto\, sans-serif\; font-size: 16px\; text-align: justify\;"><span style="box-sizing: border-box\; color: rgb(0\, 89\, 156)\;"><strong style="box-sizing: border-box\;">NE Chamber&rsquo\;s Virtual Fall Forums - Straight Talk with State Leaders</strong></span></p>\n\n<p style="margin: 0px\; padding: 0px\; line-height: 1.5\; box-sizing: border-box\; color: rgb(0\, 0\, 0)\; font-family: Roboto\, sans-serif\; font-size: 16px\; text-align: justify\;"><span style="box-sizing: border-box\; color: rgb(0\, 89\, 156)\;">A frank discussion with local and state chamber members on economic advancement for the region and state heading in the election year.</span><br />\n<br />\n&nbsp\;</p>\n\n<p style="margin: 0px auto 1.7em\; padding: 0px\; line-height: 1.5\; color: rgb(77\, 77\, 77)\; font-family: Roboto\, sans-serif\; font-size: 16px\;"><span style="color: rgb(0\, 89\, 156)\;"><strong>Guest Speakers</strong></span></p>\n\n<p style="margin: 0px auto 1.7em\; padding: 0px\; line-height: 1.5\; color: rgb(77\, 77\, 77)\; font-family: Roboto\, sans-serif\; font-size: 16px\;"><span style="color: rgb(0\, 89\, 156)\;"><strong>Bryan Slone\,</strong>&nbsp\;President\, NE Chamber</span></p>\n\n<p style="margin: 0px auto 1.7em\; padding: 0px\; line-height: 1.5\; color: rgb(77\, 77\, 77)\; font-family: Roboto\, sans-serif\; font-size: 16px\;"><span style="color: rgb(0\, 89\, 156)\;"><strong>Jim Smith</strong>\, President\, Blueprint Nebraska</span></p>\n\n<p style="margin: 0px auto 1.7em\; padding: 0px\; line-height: 1.5\; color: rgb(77\, 77\, 77)\; font-family: Roboto\, sans-serif\; font-size: 16px\;"><span style="color: rgb(0\, 89\, 156)\;"><strong>Matt Gotschall\,</strong>&nbsp\;President\, Central Community College</span></p>\n\n<p style="margin: 0px auto 1.7em\; padding: 0px\; line-height: 1.5\; color: rgb(77\, 77\, 77)\; font-family: Roboto\, sans-serif\; font-size: 16px\;"><span style="color: rgb(0\, 89\, 156)\;"><strong>Nebraska Senators and Senators-Elect</strong></span><br />\n<br />\n<span style="color: rgb(35\, 35\, 51)\; font-family: Lato\, Helvetica\, Arial\; font-size: 14px\;">Please click this URL to join.&nbsp\;</span><a href="https://zoom.us/w/95555219430?tk=tQ9q6fL15BCk4bxr9jhGoeFxjLtQ-yKpNNHHNvRM_8w.DQIAAAAWP4jv5hZkNWZhYlNDSVFYZVViU29Ic3FVV2NBAAAAAAAAAAAAAAAAAAAAAAAAAAAA&amp\;pwd=Wm41Yjl3OXdzY096YStlSnJlUlc1dz09&amp\;uuid=WN_Qxe-KaYbTvKxJTs5dmijFA" style="box-sizing: border-box\; background-image: initial\; background-position: initial\; background-size: initial\; background-repeat: initial\; background-attachment: initial\; background-origin: initial\; background-clip: initial\; color: rgb(14\, 113\, 235)\; text-decoration-line: none\; font-family: Lato\, Helvetica\, Arial\; font-size: 14px\; overflow-wrap: break-word\;">https://zoom.us/w/95555219430?tk=tQ9q6fL15BCk4bxr9jhGoeFxjLtQ-yKpNNHHNvRM_8w.DQIAAAAWP4jv5hZkNWZhYlNDSVFYZVViU29Ic3FVV2NBAAAAAAAAAAAAAAAAAAAAAAAAAAAA&amp\;pwd=Wm41Yjl3OXdzY096YStlSnJlUlc1dz09&amp\;uuid=WN_Qxe-KaYbTvKxJTs5dmijFA</a></p>\n
LOCATION:Central Community College
UID:e.1404.18731
SEQUENCE:3
DTSTAMP:20260424T191009Z
URL:https://members.kearneycoc.org/events/details/nebraska-chamber-s-virtual-fall-forum-18731
END:VEVENT

END:VCALENDAR
