BEGIN:VCALENDAR
VERSION:2.0
PRODID:-//ChamberMaster//Event Calendar 2.0//EN
METHOD:PUBLISH
X-PUBLISHED-TTL:P3D
REFRESH-INTERVAL:P3D
CALSCALE:GREGORIAN
BEGIN:VEVENT
DTSTART:20150116T220000Z
DTEND:20150118T030000Z
X-MICROSOFT-CDO-ALLDAYEVENT:FALSE
SUMMARY:Nebraska LEAD Alumni Conference
DESCRIPTION:"The Era of Techno-Agriculture" hosted by LEAD Class XXXI\n\n Registration available at: http://leadalumni.unl.edu
X-ALT-DESC;FMTTYPE=text/html:&quot\;The Era of Techno-Agriculture&quot\; hosted by LEAD Class XXXI<br />\n&#8203\;Registration available at: http://leadalumni.unl.edu
LOCATION:Younes Conference Center\, Kearney\, Nebraska
UID:e.1404.5957
SEQUENCE:3
DTSTAMP:20260422T225528Z
URL:https://members.kearneycoc.org/events/details/nebraska-lead-alumni-conference-01-16-2015-5957
END:VEVENT

END:VCALENDAR
