BEGIN:VCALENDAR
VERSION:2.0
PRODID:-//ChamberMaster//Event Calendar 2.0//EN
METHOD:PUBLISH
X-PUBLISHED-TTL:P3D
REFRESH-INTERVAL:P3D
CALSCALE:GREGORIAN
BEGIN:VEVENT
DTSTART:20160728T183000Z
DTEND:20160728T203000Z
X-MICROSOFT-CDO-ALLDAYEVENT:FALSE
SUMMARY:Nebraska Legislature's Venture Development and Entrepreneurship Task Force
DESCRIPTION:The Nebraska Legislature's Venture Development and Entrepreneurship Task Force plans to host a town hall meeting in Kearney at Ramada Inn\, July 28th from 1:30-3:30pm.  The task force\, made up of state senators\; Dan Watermeier of Syracuse\; Matt Williams of Gothenburg\; Paul Schumacher of Columbus\; Al Davis of Hyannis\, John Stiner of Gering\; and Matt Kolterman of Seward\, is charged to examine and review the role entrepreneurship and innovation play in Nebraska's economy.\n\nIn consultation with Invest Nebraska\, the task force will develop statewide strategic plan to take an inventory of existing state and locally sponsored entrepreneur and small-business programs\; do an economic impact analysis of the exisitng Nebraska Business Innovation Act programs\;do an overview of entrepreneurial and innovative best practices from other states\; and come up with specific policy recommendations to consider the next legislative session.
X-ALT-DESC;FMTTYPE=text/html:The Nebraska Legislature&#39\;s Venture Development and Entrepreneurship Task&nbsp\;Force plans to host a town hall meeting in Kearney at Ramada Inn\, July 28th from 1:30-3:30pm. &nbsp\;The task force\, made up of state senators\; Dan Watermeier of Syracuse\; Matt Williams of Gothenburg\; Paul Schumacher of Columbus\; Al Davis of Hyannis\, John Stiner of Gering\; and Matt Kolterman of Seward\, is charged to examine and review the role entrepreneurship and innovation play in Nebraska&#39\;s economy.<br />\nIn consultation with Invest Nebraska\, the task force will develop statewide strategic plan to take an inventory of existing state and locally sponsored entrepreneur and small-business programs\; do an economic impact analysis of the exisitng Nebraska Business Innovation Act programs\;do an overview of entrepreneurial and innovative best practices from other states\; and come up with specific policy recommendations to consider the next legislative session.
LOCATION:Ramada Inn 301 2nd Avenue
UID:e.1404.8937
SEQUENCE:3
DTSTAMP:20260421T171756Z
URL:https://members.kearneycoc.org/events/details/nebraska-legislature-s-venture-development-and-entrepreneurship-task-force-07-28-2016-8937
END:VEVENT

END:VCALENDAR
