BEGIN:VCALENDAR
VERSION:2.0
PRODID:-//ChamberMaster//Event Calendar 2.0//EN
METHOD:PUBLISH
X-PUBLISHED-TTL:P3D
REFRESH-INTERVAL:P3D
CALSCALE:GREGORIAN
BEGIN:VEVENT
DTSTART:20200118T193000Z
DTEND:20200118T213000Z
X-MICROSOFT-CDO-ALLDAYEVENT:FALSE
SUMMARY:Nebraska Now: Michael Burton\, Animation - Artist Talk
DESCRIPTION:Nebraska Now: Michael Burton\, Animation January 18   March 29\, 2020 Assistant Professor at the University of Nebraska-Lincoln\, Michael Burton and his UNL team create animated films that "recover visibilities of people who are mostly left out of the cultural and historical record." For this exhibition we look at Anna\, a film based on the true story of an enslaved woman who jumped to her freedom in early 19th century Washington\, D.C. Artist Talk & Reception: Saturday\, January 18   1:30 p.m.
X-ALT-DESC;FMTTYPE=text/html:Nebraska Now: Michael Burton\, Animation January 18 &ndash\; March 29\, 2020 Assistant Professor at the University of Nebraska-Lincoln\, Michael Burton and his UNL team create animated films that &ldquo\;recover visibilities of people who are mostly left out of the cultural and historical record.&rdquo\; For this exhibition we look at Anna\, a film based on the true story of an enslaved woman who jumped to her freedom in early 19th century Washington\, D.C. Artist Talk &amp\; Reception: Saturday\, January 18 &bull\; 1:30 p.m.
LOCATION:Museum of Nebraska Art
UID:e.1404.18295
SEQUENCE:3
DTSTAMP:20260425T114227Z
URL:https://members.kearneycoc.org/events/details/nebraska-now-michael-burton-animation-artist-talk-18295
END:VEVENT

END:VCALENDAR
