BEGIN:VCALENDAR
VERSION:2.0
PRODID:-//ChamberMaster//Event Calendar 2.0//EN
METHOD:PUBLISH
X-PUBLISHED-TTL:P3D
REFRESH-INTERVAL:P3D
CALSCALE:GREGORIAN
BEGIN:VEVENT
DTSTART:20190112T160000Z
DTEND:20190407T220000Z
X-MICROSOFT-CDO-ALLDAYEVENT:FALSE
SUMMARY:Nebraska Now: Michael James\, Quilts & Photographs
DESCRIPTION:Nebraska Now: Michael James\, Quilts & Photographs January 12   April 7\, 2019 In his most recent body of work\, Michael James focuses on the immersive colors\, textures\, and feel of India\, looking to its "vernacular architecture" and the intricacies of the buildings\, alleys\, and courtyards. A leader in the art quilt movement of the 1970s\, James is the Chair and Ardis James Professor of Textiles in Merchandising and Fashion Design at the University of Nebraska-Lincoln.
X-ALT-DESC;FMTTYPE=text/html:Nebraska Now: Michael James\, Quilts &amp\; Photographs January 12 &ndash\; April 7\, 2019 In his most recent body of work\, Michael James focuses on the immersive colors\, textures\, and feel of India\, looking to its &ldquo\;vernacular architecture&rdquo\; and the intricacies of the buildings\, alleys\, and courtyards. A leader in the art quilt movement of the 1970s\, James is the Chair and Ardis James Professor of Textiles in Merchandising and Fashion Design at the University of Nebraska-Lincoln.
LOCATION:Museum of Nebraska Art 2401 Central Avenue Kearney\, NE 68847
UID:e.1404.14429
SEQUENCE:3
DTSTAMP:20260426T020737Z
URL:https://members.kearneycoc.org/events/details/nebraska-now-michael-james-quilts-photographs-14429
END:VEVENT

END:VCALENDAR
