BEGIN:VCALENDAR
VERSION:2.0
PRODID:-//ChamberMaster//Event Calendar 2.0//EN
METHOD:PUBLISH
X-PUBLISHED-TTL:P3D
REFRESH-INTERVAL:P3D
CALSCALE:GREGORIAN
BEGIN:VEVENT
DTSTART:20140607T190000Z
DTEND:20140607T230000Z
X-MICROSOFT-CDO-ALLDAYEVENT:FALSE
SUMMARY:Nebraska Shrine Bowl
DESCRIPTION:
X-ALT-DESC;FMTTYPE=text/html:
LOCATION:
UID:e.1404.4535
SEQUENCE:3
DTSTAMP:20260423T113732Z
URL:https://members.kearneycoc.org/events/details/nebraska-shrine-bowl-06-07-2014-4535
END:VEVENT

END:VCALENDAR
