BEGIN:VCALENDAR
VERSION:2.0
PRODID:-//ChamberMaster//Event Calendar 2.0//EN
METHOD:PUBLISH
X-PUBLISHED-TTL:P3D
REFRESH-INTERVAL:P3D
CALSCALE:GREGORIAN
BEGIN:VEVENT
DTSTART:20130925T000000Z
DTEND:20130925T010000Z
X-MICROSOFT-CDO-ALLDAYEVENT:FALSE
SUMMARY:Nebraskans for The Liberty Amendments
DESCRIPTION:We are having an Organizational Meeting at 7:00 p.m. on Sept. 24\, 2013 at the Kearney Public Library (Loup Room)\, Kearney\, NE.\n\nThis group was created to find like minded individuals to get Nebraska to join in a Convention of States to reduce the jurisdiction and power of the federal government as outlined in the book\, "The Liberty Amendments" by Mark Levin.
X-ALT-DESC;FMTTYPE=text/html:<span style="font-family: Arial\, Helvetica\, sans-serif\;"><span style="font-size: large\;"><span style="font-family: Arial\, Helvetica\, sans-serif\; font-size: large\;">We are having an Organizational Meeting at 7:00 p.m. on&nbsp\;Sept. 24\, 2013 at the Kearney Public Library (Loup&nbsp\;Room)\, Kearney\, NE.</span><br />\nThis group was created to find like minded individuals to get Nebraska to join in a Convention of States to reduce the&nbsp\;jurisdiction and power&nbsp\;of the federal government as outlined in the book\, &quot\;The Liberty Amendments&quot\; by Mark Levin.</span></span>
LOCATION:Kearney Public Library - Loup Room
UID:e.1404.3294
SEQUENCE:3
DTSTAMP:20260424T035824Z
URL:https://members.kearneycoc.org/events/details/nebraskans-for-the-liberty-amendments-09-24-2013-3294
END:VEVENT

END:VCALENDAR
