BEGIN:VCALENDAR
VERSION:2.0
PRODID:-//ChamberMaster//Event Calendar 2.0//EN
METHOD:PUBLISH
X-PUBLISHED-TTL:P3D
REFRESH-INTERVAL:P3D
CALSCALE:GREGORIAN
BEGIN:VEVENT
DTSTART:20141107T010000Z
DTEND:20141107T033000Z
X-MICROSOFT-CDO-ALLDAYEVENT:FALSE
SUMMARY:Neil Berg's 100 Years of Broadway
DESCRIPTION:Recreating some of Broadway?s greatest moments\, these five vocalists present show-stopping numbers from The Phantom of the Opera\, Les Miserables\, CATS\, Jesus Christ Superstar\, and more!
X-ALT-DESC;FMTTYPE=text/html:Recreating some of Broadway?s greatest moments\, these five vocalists present show-stopping numbers from The Phantom of the Opera\, Les Miserables\, CATS\, Jesus Christ Superstar\, and more!
LOCATION:Merryman Performing Arts Center 225 West 22nd Street
UID:e.1404.5328
SEQUENCE:3
DTSTAMP:20260423T034718Z
URL:https://members.kearneycoc.org/events/details/neil-berg-s-100-years-of-broadway-11-06-2014-5328
END:VEVENT

END:VCALENDAR
