BEGIN:VCALENDAR
VERSION:2.0
PRODID:-//ChamberMaster//Event Calendar 2.0//EN
METHOD:PUBLISH
X-PUBLISHED-TTL:P3D
REFRESH-INTERVAL:P3D
CALSCALE:GREGORIAN
BEGIN:VEVENT
DTSTART:20130607T233000Z
DTEND:20130608T013000Z
X-MICROSOFT-CDO-ALLDAYEVENT:FALSE
SUMMARY:New Hours of Service Training for Truck Drivers
DESCRIPTION:Attention Truck Drivers: New Hours of Service rules go into effect July 1\, 2013\n\n	 The Nebraska Safety Center is holding 2-hour informational training seminar on the new Hours of Service rules.  \n\n	 The training is scheduled for Friday\, June 7\, from 6:30 pm to 8:30 pm in the West Center Building located at 1917 W 24th Street\, on the west edge of the UNK campus\, room 005N.   \n\n	Cost for the training is $39.\n\n	Call (308) 865-8256 to register.
X-ALT-DESC;FMTTYPE=text/html:<div style="margin:0\;">\n	<span lang="en-US"><font face="Calibri\,sans-serif" size="2"><span style="font-size:11pt\;"><font size="3"><span style="font-size:12pt\;">Attention Truck Drivers: New Hours of Service rules go into effect July 1\, 2013</span></font></span></font></span></div>\n<div style="margin:0\;">\n	<span lang="en-US"><font face="Calibri\,sans-serif" size="2"><span style="font-size:11pt\;"><font size="3"><span style="font-size:12pt\;">&nbsp\;The Nebraska Safety Center is holding 2-hour informational training seminar on the new Hours of Service rules. &nbsp\;</span></font></span></font></span></div>\n<div style="margin:0\;">\n	<span lang="en-US"><font face="Calibri\,sans-serif" size="2"><span style="font-size:11pt\;"><font size="3"><span style="font-size:12pt\;">&nbsp\;The training is scheduled for Friday\, June 7\, from 6:30 pm to 8:30 pm in the West Center Building located at 1917 W </span></font><font size="3"><span style="font-size:12pt\;">24</span></font><font size="-1"><sup>th</sup></font><font size="3"><span style="font-size:12pt\;"> Street\, on the west edge of the UNK campus\, room 005N.&nbsp\; &nbsp\;</span></font></span></font></span></div>\n<div style="margin:0\;">\n	<span lang="en-US"><font face="Calibri\,sans-serif" size="2"><span style="font-size:11pt\;"><font size="3"><span style="font-size:12pt\;">Cost for the training is $39.</span></font></span></font></span></div>\n<div style="margin:0\;">\n	<span lang="en-US"><font face="Calibri\,sans-serif" size="2"><span style="font-size:11pt\;"><font size="3"><span style="font-size:12pt\;">Call (308) 865-8256 to register.&nbsp\; </span></font></span></font></span></div>\n
LOCATION:West Center Building 1917 W 24th St. Room 005N
UID:e.1404.3209
SEQUENCE:3
DTSTAMP:20260424T081717Z
URL:https://members.kearneycoc.org/events/details/new-hours-of-service-training-for-truck-drivers-06-07-2013-3209
END:VEVENT

END:VCALENDAR
