BEGIN:VCALENDAR
VERSION:2.0
PRODID:-//ChamberMaster//Event Calendar 2.0//EN
METHOD:PUBLISH
X-PUBLISHED-TTL:P3D
REFRESH-INTERVAL:P3D
CALSCALE:GREGORIAN
BEGIN:VEVENT
DTSTART:20150530T180000Z
DTEND:20150530T200000Z
X-MICROSOFT-CDO-ALLDAYEVENT:FALSE
SUMMARY:Nina Hammer Splash Pad Ribbon Cutting and Celebration
DESCRIPTION:The Kearney Park and Recreation Department invites you to the Nina Hammer Park Splash Pad Dedication and Celebration on Saturday\, May 30 from 1:00-3:00pm.  Donors of the Splash Pad will be recognized.  The celebration will consist of an afternoon of music\, games\, inflatable\, free Frisbees to the first 200 kids\, treats\, drinks & much more!  Come enjoy an afternoon of free family fun at Nina Hammer Park.  Nina Hammer Park is located at 13th Street and Avenue M.  For more information please call the Kearney Park and Recreation Department at 237-4644.\n\nThe Kearney Park and Recreation Department invites you to the Nina Hammer Park Splash Pad Dedication and Celebration on Saturday\, May 30 from 1:00-3:00pm.  A Ribbon Cutting for the Splash Pad will be held.  The celebration will consist of an afternoon of music\, games\, inflatable\, free Frisbees to the first 200 kids\, treats\, drinks & much more!  Come enjoy an afternoon of free family fun at Nina Hammer Park.  Nina Hammer Park is located at 13th Street and Avenue M.
X-ALT-DESC;FMTTYPE=text/html:<span style="font-family:arial\,sans-serif"><span style="font-size:12.0pt">The Kearney Park and Recreation Department invites you to the Nina Hammer Park Splash Pad Dedication and Celebration on Saturday\, May 30 from 1:00-3:00pm.&nbsp\; Donors of the Splash Pad will be recognized.&nbsp\; The celebration will consist of an afternoon of music\, games\, inflatable\, free Frisbees to the first 200 kids\, treats\, drinks &amp\; much more!&nbsp\; Come enjoy an afternoon of free family fun at Nina Hammer Park.&nbsp\; Nina Hammer Park is located at 13<sup>th</sup> Street and Avenue M.&nbsp\; For more information please call the Kearney Park and Recreation Department at 237-4644.</span></span><br />\n<span style="font-family:arial\,sans-serif"><span style="font-size:12.0pt">The Kearney Park and Recreation Department invites you to the Nina Hammer Park Splash Pad Dedication and Celebration on Saturday\, May 30 from 1:00-3:00pm.&nbsp\; A Ribbon Cutting for the Splash Pad will be held.&nbsp\; The celebration will consist of an afternoon of music\, games\, inflatable\, free Frisbees to the first 200 kids\, treats\, drinks &amp\; much more!&nbsp\; Come enjoy an afternoon of free family fun at Nina Hammer Park.&nbsp\; Nina Hammer Park is located at 13<sup>th</sup> Street and Avenue M. </span></span><br />\n<br />\n&nbsp\;
LOCATION:Nina Hammer Park - 13th Street and Avenue M
UID:e.1404.6269
SEQUENCE:3
DTSTAMP:20260422T182607Z
URL:https://members.kearneycoc.org/events/details/nina-hammer-splash-pad-ribbon-cutting-and-celebration-05-30-2015-6269
END:VEVENT

END:VCALENDAR
