BEGIN:VCALENDAR
VERSION:2.0
PRODID:-//ChamberMaster//Event Calendar 2.0//EN
METHOD:PUBLISH
X-PUBLISHED-TTL:P3D
REFRESH-INTERVAL:P3D
CALSCALE:GREGORIAN
BEGIN:VEVENT
DTSTART:20220311T140000Z
DTEND:20220311T210000Z
X-MICROSOFT-CDO-ALLDAYEVENT:FALSE
SUMMARY:No School Camp
DESCRIPTION:
X-ALT-DESC;FMTTYPE=text/html:
LOCATION:Kearney Area Children's Museum 5827 4th Ave\, Kearney\, NE 68845
UID:e.1404.19637
SEQUENCE:3
DTSTAMP:20260423T145723Z
URL:https://members.kearneycoc.org/events/details/no-school-camp-03-11-2022-19637
END:VEVENT

END:VCALENDAR
