BEGIN:VCALENDAR
VERSION:2.0
PRODID:-//ChamberMaster//Event Calendar 2.0//EN
METHOD:PUBLISH
X-PUBLISHED-TTL:P3D
REFRESH-INTERVAL:P3D
CALSCALE:GREGORIAN
BEGIN:VEVENT
DTSTART:20220509T130000Z
DTEND:20220509T200000Z
X-MICROSOFT-CDO-ALLDAYEVENT:FALSE
SUMMARY:No School Day Camp
DESCRIPTION:Schools out? No problem!\n\n\n\nLet your children learn and play at the museum for a day packed full of fun! During camp children will participate in a variety of activities that incorporate art\, STEM\, large motor games\, team building activities\, and free play in the museum.\n\n\nAges 4-10
X-ALT-DESC;FMTTYPE=text/html:<p><strong>Schools out? No problem!</strong><br />\n<br />\nLet your children learn and play at the museum for a day packed full of&nbsp\;fun! During camp children will participate in a variety of activities that incorporate art\, STEM\, large motor games\, team building activities\, and free play in the museum.</p>\n<br />\nAges 4-10<br />\n&nbsp\;\n<div>&nbsp\;</div>\n
LOCATION:Kearney Area Children's Museum 5827 4th Avenue\, Kearney\, NE 68845
UID:e.1404.19684
SEQUENCE:3
DTSTAMP:20260423T113613Z
URL:https://members.kearneycoc.org/events/details/no-school-day-camp-19684
END:VEVENT

END:VCALENDAR
