BEGIN:VCALENDAR
VERSION:2.0
PRODID:-//ChamberMaster//Event Calendar 2.0//EN
METHOD:PUBLISH
X-PUBLISHED-TTL:P3D
REFRESH-INTERVAL:P3D
CALSCALE:GREGORIAN
BEGIN:VEVENT
DTSTART:20191018T130000Z
DTEND:20191018T200000Z
X-MICROSOFT-CDO-ALLDAYEVENT:FALSE
SUMMARY:"No School" Day Camp @ KACM
DESCRIPTION:Schools out? No problem!\n\n\n\nBring your children to the museum for a day packed full of fun! During camp children will participate in a variety of activities that incorporate art\, STEM\, large motor games\, team building activities\, and free play in the museum. \n\n\n\nFor Ages 4-10\n\n\n\nChildren will need to bring a sack lunch and drink. A morning and afternoon snack will be provided. If your child has any food allergies they are welcome to bring their own food for snack times. \n\n\n\nPre-registration is highly encouraged.
X-ALT-DESC;FMTTYPE=text/html:Schools out? No problem!<br />\n<br />\nBring your children to the museum for a day packed full of fun! During camp children will participate in a variety of activities that incorporate art\, STEM\, large motor games\, team building activities\, and free play in the museum.&nbsp\;<br />\n<br />\nFor Ages 4-10<br />\n<br />\nChildren will need to bring a sack lunch and drink. A morning and afternoon snack will be provided. If your child has any food allergies they are welcome to bring their own food for snack times.&nbsp\;<br />\n<br />\nPre-registration is highly encouraged.&nbsp\;
LOCATION:Kearney Area Children's Museum Alia Arram Memorial Building 5827 4th Avenue\, Kearney\, NE 68845
UID:e.1404.18156
SEQUENCE:3
DTSTAMP:20260425T164122Z
URL:https://members.kearneycoc.org/events/details/no-school-day-camp-kacm-10-18-2019-18156
END:VEVENT

END:VCALENDAR
