BEGIN:VCALENDAR
VERSION:2.0
PRODID:-//ChamberMaster//Event Calendar 2.0//EN
METHOD:PUBLISH
X-PUBLISHED-TTL:P3D
REFRESH-INTERVAL:P3D
CALSCALE:GREGORIAN
BEGIN:VEVENT
DTSTART:20210514T003000Z
DTEND:20210524T003000Z
X-MICROSOFT-CDO-ALLDAYEVENT:FALSE
SUMMARY:NOISES OFF at Kearney Community Theatre
DESCRIPTION:NOISES OFF By Michael Frayn Directed by David Rozema Sponsored by Cottonwood Veterinary Clinic Hired to helm an Americanized take on a British play\, director Lloyd Fellowes does his best to control an eccentric group of stage actors. During practice sessions\, things run smoothly. However\, when Lloyd and his actors begin a series of performances leading up to a Broadway premiere\, chaos ensues. Star actress Dotty is losing her sparkle (and her sardines!)\, male lead Frederick has no confidence\, and bit actor Selsdon is rarely sober. Can the rest of the troupe get it together? Will they make it to curtain call? Suitable for mature audiences. Masks are required to be worn during the entirety of the performance.
X-ALT-DESC;FMTTYPE=text/html:NOISES OFF By Michael Frayn Directed by David Rozema Sponsored by Cottonwood Veterinary Clinic Hired to helm an Americanized take on a British play\, director Lloyd Fellowes does his best to control an eccentric group of stage actors. During practice sessions\, things run smoothly. However\, when Lloyd and his actors begin a series of performances leading up to a Broadway premiere\, chaos ensues. Star actress Dotty is losing her sparkle (and her sardines!)\, male lead Frederick has no confidence\, and bit actor Selsdon is rarely sober. Can the rest of the troupe get it together? Will they make it to curtain call? Suitable for mature audiences. Masks are required to be worn during the entirety of the performance.
LOCATION:Kearney Community Theatre 83 Plaza Blvd Kearney NE 68845
UID:e.1404.19307
SEQUENCE:3
DTSTAMP:20260424T103845Z
URL:https://members.kearneycoc.org/events/details/noises-off-at-kearney-community-theatre-19307
END:VEVENT

END:VCALENDAR
