BEGIN:VCALENDAR
VERSION:2.0
PRODID:-//ChamberMaster//Event Calendar 2.0//EN
METHOD:PUBLISH
X-PUBLISHED-TTL:P3D
REFRESH-INTERVAL:P3D
CALSCALE:GREGORIAN
BEGIN:VEVENT
DTSTART:20191025T130000Z
DTEND:20191025T170000Z
X-MICROSOFT-CDO-ALLDAYEVENT:FALSE
SUMMARY:North Pole Express Ticket Sales Begin
DESCRIPTION:Ends when the tickets are sold out!
X-ALT-DESC;FMTTYPE=text/html:Ends when the tickets are sold out!
LOCATION:https://kpsfoundation.gives/Events/North-Pole-Express
UID:e.1404.18197
SEQUENCE:3
DTSTAMP:20260425T163713Z
URL:https://members.kearneycoc.org/events/details/north-pole-express-ticket-sales-begin-18197
END:VEVENT

END:VCALENDAR
