BEGIN:VCALENDAR
VERSION:2.0
PRODID:-//ChamberMaster//Event Calendar 2.0//EN
METHOD:PUBLISH
X-PUBLISHED-TTL:P3D
REFRESH-INTERVAL:P3D
CALSCALE:GREGORIAN
BEGIN:VEVENT
DTSTART:20130516T210000Z
DTEND:20130516T230000Z
X-MICROSOFT-CDO-ALLDAYEVENT:FALSE
SUMMARY:Northridge Ribbon Cutting/Open House
DESCRIPTION:You are cordially invited to Emeritus at Northridge Place Ribbon Cutting & Grand Re-Opening!\n\nThursday\, May 16th ~  4pm-6pm \n\n*Hor D'oeuvres and Cocktails\n\n*Music provided by Thalken\, Tesdall\, Thalken\n\n*Register to win prizes for you or your office!\n\n*Tour apartments and see our new look!
X-ALT-DESC;FMTTYPE=text/html:<span style="font-family:brush script mt\;"><span style="font-size:24.0pt\;">You are cordially invited to Emeritus at Northridge Place Ribbon Cutting &amp\; Grand Re-Opening!</span></span><br />\n<span style="font-family:brush script mt\;"><span style="font-size:18.0pt\;">Thursday\, May 16<sup>th</sup> ~ &nbsp\;4pm-6pm </span></span><br />\n<span style="font-family:poor richard\,serif\;"><span style="font-size:12.0pt\;">*Hor D&rsquo\;oeuvres and Cocktails</span></span><br />\n<span style="font-family:poor richard\,serif\;"><span style="font-size:12.0pt\;">*Music provided by Thalken\, Tesdall\, Thalken</span></span><br />\n<span style="font-family:poor richard\,serif\;"><span style="font-size:12.0pt\;">*Register to win prizes for you or your office!</span></span><br />\n<span style="font-family:poor richard\,serif\;"><span style="font-size:12.0pt\;">*Tour apartments and see our new look!</span></span><br />\n<br />\n
LOCATION:5410 17th Ave
UID:e.1404.2484
SEQUENCE:3
DTSTAMP:20260424T124709Z
URL:https://members.kearneycoc.org/events/details/northridge-ribbon-cutting-open-house-05-16-2013-2484
END:VEVENT

END:VCALENDAR
