BEGIN:VCALENDAR
VERSION:2.0
PRODID:-//ChamberMaster//Event Calendar 2.0//EN
METHOD:PUBLISH
X-PUBLISHED-TTL:P3D
REFRESH-INTERVAL:P3D
CALSCALE:GREGORIAN
BEGIN:VEVENT
DTSTART;VALUE=DATE:20191026
DTEND;VALUE=DATE:20191027
TRANSP:TRANSPARENT
X-MICROSOFT-CDO-ALLDAYEVENT:TRUE
SUMMARY:NSBA State Marching Competition
DESCRIPTION:NSBA is the Nebraska state marching competition held at three locations on October 26. Kearney High School is proudly hosting one of the sites. Over 20 high school marching bands from the central and western regions of Nebraska will present their shows for judges and a supportive audience.\n\n\n\nWe will need plenty of volunteers and would appreciate your help! Please sign up to volunteer HERE!
X-ALT-DESC;FMTTYPE=text/html:NSBA is the Nebraska state marching competition held at three locations on October 26. Kearney High School is proudly hosting one of the sites. Over 20 high school marching bands from the central and western regions of Nebraska will present their shows for judges and a supportive audience.<br />\n<br />\nWe will need plenty of volunteers and would appreciate your help! Please sign up to volunteer <a href="https://m.signupgenius.com/#!/showSignUp/60b0b44a4aa23a4fa7-nsba1">HERE</a>!
LOCATION:Kearney High School 2702 W 11th St.
UID:e.1404.18184
SEQUENCE:3
DTSTAMP:20260425T163553Z
URL:https://members.kearneycoc.org/events/details/nsba-state-marching-competition-18184
END:VEVENT

END:VCALENDAR
