BEGIN:VCALENDAR
VERSION:2.0
PRODID:-//ChamberMaster//Event Calendar 2.0//EN
METHOD:PUBLISH
X-PUBLISHED-TTL:P3D
REFRESH-INTERVAL:P3D
CALSCALE:GREGORIAN
BEGIN:VEVENT
DTSTART:20190921T000000Z
DTEND:20190921T020000Z
X-MICROSOFT-CDO-ALLDAYEVENT:FALSE
SUMMARY:Of Mice and Men
DESCRIPTION:Of Mice and Men Mountain Rose Ranch 2446 Cottonmill Avenue\, Kearney September 19-21   7 pm September 22   2 pm Tickets: $20 General Admission Tickets available at CraneRiverTheater.org or by calling 308-627-5796. Based on the critically-acclaimed classic American novel by John Steinbeck\, Of Mice and Men explores the ultimate meaning of friendship. Migrant ranch workers in California during the Great Depression\, George\, an intelligent but uneducated man\, and Lennie\, a large man with the mind of a child\, dream of making enough money to buy a place of their own. Though they are different\, they care deeply about each other. When a crime is accidentally committed\, the two men are faced with a moral predicament. George must choose between protecting his friend or staying the course towards his version of the American dream. Tragic yet beautiful\, Of Mice and Men is one of the most powerful and devastating stories of the 20th century. As part of our fall destination series that uniquely fits the production to the venue\, this play will be presented in an authentic barn at Mountain Rose Ranch near Cottonmill Park in Kearney.
X-ALT-DESC;FMTTYPE=text/html:Of Mice and Men Mountain Rose Ranch 2446 Cottonmill Avenue\, Kearney September 19-21 &bull\; 7 pm September 22 &bull\; 2 pm Tickets: $20 General Admission Tickets available at CraneRiverTheater.org or by calling 308-627-5796. Based on the critically-acclaimed classic American novel by John Steinbeck\, Of Mice and Men explores the ultimate meaning of friendship. Migrant ranch workers in California during the Great Depression\, George\, an intelligent but uneducated man\, and Lennie\, a large man with the mind of a child\, dream of making enough money to buy a place of their own. Though they are different\, they care deeply about each other. When a crime is accidentally committed\, the two men are faced with a moral predicament. George must choose between protecting his friend or staying the course towards his version of the American dream. Tragic yet beautiful\, Of Mice and Men is one of the most powerful and devastating stories of the 20th century. As part of our fall destination series that uniquely fits the production to the venue\, this play will be presented in an authentic barn at Mountain Rose Ranch near Cottonmill Park in Kearney.
LOCATION:Mountain Rose Ranch 2446 Cottonmill Avenue\, Kearney
UID:e.1404.17889
SEQUENCE:3
DTSTAMP:20260425T180715Z
URL:https://members.kearneycoc.org/events/details/of-mice-and-men-17889
END:VEVENT

END:VCALENDAR
