BEGIN:VCALENDAR
VERSION:2.0
PRODID:-//ChamberMaster//Event Calendar 2.0//EN
METHOD:PUBLISH
X-PUBLISHED-TTL:P3D
REFRESH-INTERVAL:P3D
CALSCALE:GREGORIAN
BEGIN:VEVENT
DTSTART:20151003T210000Z
DTEND:20151004T040000Z
X-MICROSOFT-CDO-ALLDAYEVENT:FALSE
SUMMARY:Oktoberfest
DESCRIPTION:Kearney Oktoberfest set for October 3rd\, 2015 is a new event coming to the Kearney Community. With great German food\, beer\, polka\, and games\, this is one event you will not want to miss. VIP Hour will be from 4-5 and will include sampling\, music and a complimentary mug with VIP admission. VIP tickets are limited\, so get them as soon as you can!\n\n\n\nCommemorative mugs are $15 and are available while supplies last. To ensure you receive a commemorative mug\, VIP ticket purchases are suggested.\n\n\n\nPre-Sale Information\n\n	NO ONE UNDER 21 is allowed to pick up or purchase admission tickets\n	Attendees will be required to show their IDs to pick up the admission tickets AND to gain entrance the night of the event\n	VIP attendee will receive complimentary mug and drink ticket the night of the event. Must attend the event to receive mug and ticket.\n	NO REFUNDS on event tickets\n	Tickets are available at the Kearney Chamber 1007 2nd Ave. To order tickets either stop by or call (308) 237-3101 during business hours 8-5.
X-ALT-DESC;FMTTYPE=text/html:Kearney Oktoberfest set for October 3rd\, 2015 is a new event coming to the Kearney Community. With great German food\, beer\, polka\, and games\, this is one event you will not want to miss. VIP Hour will be from 4-5 and will include sampling\, music and a complimentary mug with VIP admission. VIP tickets are limited\, so get them as soon as you can!<br />\n<br />\nCommemorative mugs are $15 and are available while supplies last. To ensure you receive a commemorative mug\, VIP ticket purchases are suggested.<br />\n<br />\nPre-Sale Information\n<ul>\n	<li>NO ONE UNDER 21 is allowed to pick up or purchase admission tickets</li>\n	<li>Attendees will be required to show their IDs to pick up the admission tickets <b><u>AND&nbsp\;</u></b>to gain entrance the night of the event</li>\n	<li>VIP attendee will receive complimentary mug and drink ticket the night of the event.&nbsp\;<strong><u>Must attend the event to receive mug and ticket.</u></strong></li>\n	<li>NO REFUNDS on event tickets</li>\n	<li>Tickets are available at the Kearney Chamber 1007 2nd Ave. To order tickets either stop by or call (308) 237-3101 during business hours 8-5.</li>\n</ul>\n
LOCATION:Location: Exhibit Hall-Buffalo County Fairgrounds
UID:e.1404.5985
SEQUENCE:3
DTSTAMP:20260422T083600Z
URL:https://members.kearneycoc.org/events/details/oktoberfest-10-03-2015-5985
END:VEVENT

END:VCALENDAR
