BEGIN:VCALENDAR
VERSION:2.0
PRODID:-//ChamberMaster//Event Calendar 2.0//EN
METHOD:PUBLISH
X-PUBLISHED-TTL:P3D
REFRESH-INTERVAL:P3D
CALSCALE:GREGORIAN
BEGIN:VEVENT
DTSTART:20160722T000000Z
DTEND:20160722T011500Z
X-MICROSOFT-CDO-ALLDAYEVENT:FALSE
SUMMARY:One Team One Mission
DESCRIPTION:Jay Martin\, founder of The Juice Plus+ Company\, will speak about how he evolved a small\, direct-sales company into a highly profitable\, multimillion dollar company operating in more than 20 countries and now stands at the forefront of the health and wellness industry. In addition\, he is rooted in philanthropy. Some of the organizations supported are: St. Jude's Hospital (lead sponsor of annual marathon)\, Boys and Girls Clubs of America and Volunteers of America\, where Mr. Martin was awarded their 2016 Booth Founders award. For individuals and organizations looking to learn more or fund expenses or programs and especially those who want to join the Inspire Healthy Living and One Team One Mission movement\, please plan to attend.
X-ALT-DESC;FMTTYPE=text/html:Jay Martin\, founder of The Juice Plus+ Company\, will speak about how he evolved a small\, direct-sales company into a highly profitable\, multimillion dollar company operating in more than 20 countries and now stands at the forefront of the health and wellness industry. In addition\, he is rooted in philanthropy. Some of the organizations supported are: St. Jude&#39\;s Hospital (lead sponsor of annual marathon)\, Boys and Girls Clubs of America and Volunteers of America\, where Mr. Martin was awarded their 2016 Booth Founders award. For individuals and organizations looking to learn more or fund expenses or programs and especially those who want to join the Inspire Healthy Living and One Team One Mission movement\, please plan to attend.
LOCATION:Holiday Inn Loper Room North 102 2nd Ave South Kearney\, NE
UID:e.1404.8934
SEQUENCE:3
DTSTAMP:20260421T184424Z
URL:https://members.kearneycoc.org/events/details/one-team-one-mission-07-21-2016-8934
END:VEVENT

END:VCALENDAR
