BEGIN:VCALENDAR
VERSION:2.0
PRODID:-//ChamberMaster//Event Calendar 2.0//EN
METHOD:PUBLISH
X-PUBLISHED-TTL:P3D
REFRESH-INTERVAL:P3D
CALSCALE:GREGORIAN
BEGIN:VEVENT
DTSTART:20130530T210000Z
DTEND:20130531T000000Z
X-MICROSOFT-CDO-ALLDAYEVENT:FALSE
SUMMARY:Open House: Archway Monument
DESCRIPTION:Join fellow Chamber Members for an Open House event on Thursday\, May 30th from 4-7pm for the Great Platte River Road Archway Monument.  Come see what's new out at one of Kearney's greatest landmarks!
X-ALT-DESC;FMTTYPE=text/html:Join fellow Chamber Members for an Open House event on Thursday\, May 30th from 4-7pm for the Great Platte River Road Archway Monument. &nbsp\;Come see what&#39\;s new out at one of Kearney&#39\;s greatest landmarks!&nbsp\;
LOCATION:The Great Platte River Road Archway Monument is located at 3060 E 1st Street
UID:e.1404.3197
SEQUENCE:3
DTSTAMP:20260424T103310Z
URL:https://members.kearneycoc.org/events/details/open-house-archway-monument-05-30-2013-3197
END:VEVENT

END:VCALENDAR
