BEGIN:VCALENDAR
VERSION:2.0
PRODID:-//ChamberMaster//Event Calendar 2.0//EN
METHOD:PUBLISH
X-PUBLISHED-TTL:P3D
REFRESH-INTERVAL:P3D
CALSCALE:GREGORIAN
BEGIN:VEVENT
DTSTART:20141120T220000Z
DTEND:20141121T010000Z
X-MICROSOFT-CDO-ALLDAYEVENT:FALSE
SUMMARY:Open House-Florang Chiropractic and Wellness
DESCRIPTION:Stop by Florang Chiropractic and Wellness for their Open House! Meet staff and see what great services they provide!
X-ALT-DESC;FMTTYPE=text/html:Stop by Florang Chiropractic and Wellness for their Open House! Meet staff and see what great services they provide!
LOCATION:2214 2nd Avenue
UID:e.1404.5417
SEQUENCE:3
DTSTAMP:20260423T034327Z
URL:https://members.kearneycoc.org/events/details/open-house-florang-chiropractic-and-wellness-11-20-2014-5417
END:VEVENT

END:VCALENDAR
