BEGIN:VCALENDAR
VERSION:2.0
PRODID:-//ChamberMaster//Event Calendar 2.0//EN
METHOD:PUBLISH
X-PUBLISHED-TTL:P3D
REFRESH-INTERVAL:P3D
CALSCALE:GREGORIAN
BEGIN:VEVENT
DTSTART:20161111T170000Z
DTEND:20161111T190000Z
X-MICROSOFT-CDO-ALLDAYEVENT:FALSE
SUMMARY:Open House Kearney Regional Medical Center Emergency Department
DESCRIPTION:Join us for an open house celebration of the brand new Emergency Department at Kearney Regional Medical Center! Meet staff\, learn more about the new services and enjoy refreshments.
X-ALT-DESC;FMTTYPE=text/html:Join us for an open house celebration of the brand new Emergency Department at Kearney Regional Medical Center! Meet staff\, learn more about the new services and enjoy refreshments.
LOCATION:804 22nd Avenue
UID:e.1404.9069
SEQUENCE:3
DTSTAMP:20260421T103158Z
URL:https://members.kearneycoc.org/events/details/open-house-kearney-regional-medical-center-emergency-department-9069
END:VEVENT

END:VCALENDAR
