BEGIN:VCALENDAR
VERSION:2.0
PRODID:-//ChamberMaster//Event Calendar 2.0//EN
METHOD:PUBLISH
X-PUBLISHED-TTL:P3D
REFRESH-INTERVAL:P3D
CALSCALE:GREGORIAN
BEGIN:VEVENT
DTSTART:20130913T210000Z
DTEND:20130914T000000Z
X-MICROSOFT-CDO-ALLDAYEVENT:FALSE
SUMMARY:Open House: Talbitzer Chiropractic & Nutrition
DESCRIPTION:Open House for Talbitzer Chiropractic & Nutrition. There will be refreshments\, a drawing and a game that can be played to win prizes.
X-ALT-DESC;FMTTYPE=text/html:Open House for Talbitzer Chiropractic &amp\; Nutrition. There will be refreshments\, a drawing and a game that can be played to win prizes.&nbsp\;
LOCATION:215 W 29th St\, Suite A
UID:e.1404.3305
SEQUENCE:3
DTSTAMP:20260424T020720Z
URL:https://members.kearneycoc.org/events/details/open-house-talbitzer-chiropractic-nutrition-09-13-2013-3305
END:VEVENT

END:VCALENDAR
