BEGIN:VCALENDAR
VERSION:2.0
PRODID:-//ChamberMaster//Event Calendar 2.0//EN
METHOD:PUBLISH
X-PUBLISHED-TTL:P3D
REFRESH-INTERVAL:P3D
CALSCALE:GREGORIAN
BEGIN:VEVENT
DTSTART;VALUE=DATE:20180814
DTEND;VALUE=DATE:20190422
TRANSP:TRANSPARENT
X-MICROSOFT-CDO-ALLDAYEVENT:TRUE
SUMMARY:Optical Chronicle III
DESCRIPTION:Optical Chronicle III August 14\, 2018 ? April 21\, 2019 Author Henry M. Sayre in his book A World of Art discusses the various roles of the artist in society. He identifies four roles\; the third is how artists make a visual record of the people\, places\, and events of their time and place. These identified roles provide the viewer with a touchstone through which they can then begin to interpret the work. This exhibition is the third in a series of four exhibitions\, each dedicated to one of Sayre?s four guiding principles.
X-ALT-DESC;FMTTYPE=text/html:Optical Chronicle III August 14\, 2018 ? April 21\, 2019 Author Henry M. Sayre in his book A World of Art discusses the various roles of the artist in society. He identifies four roles\; the third is how artists make a visual record of the people\, places\, and events of their time and place. These identified roles provide the viewer with a touchstone through which they can then begin to interpret the work. This exhibition is the third in a series of four exhibitions\, each dedicated to one of Sayre?s four guiding principles.
LOCATION:Museum of Nebraska Art 2401 Central Ave. Kearney
UID:e.1404.12509
SEQUENCE:3
DTSTAMP:20260426T020311Z
URL:https://members.kearneycoc.org/events/details/optical-chronicle-iii-12509
END:VEVENT

END:VCALENDAR
