BEGIN:VCALENDAR
VERSION:2.0
PRODID:-//ChamberMaster//Event Calendar 2.0//EN
METHOD:PUBLISH
X-PUBLISHED-TTL:P3D
REFRESH-INTERVAL:P3D
CALSCALE:GREGORIAN
BEGIN:VEVENT
DTSTART:20201030T210000Z
DTEND:20201030T230000Z
X-MICROSOFT-CDO-ALLDAYEVENT:FALSE
SUMMARY:Outdoor Trick or Treat Parade
DESCRIPTION:We will be doing an outdoor trick or treat event on Friday\, October 30th from 4pm to 6pm. Residents will be viewing from outside but will be required to stay on the sidewalk around the circle drive and others will be viewing from their windows. Masks are required at all times. We ask you not to go over to a resident or move through the residents in their viewing areas. We do anticipate parking to be full as no parking in the circle drive will be available. It will be street parking and in the two far south lots of the main entrance. Residents are excited to see all the costumes!
X-ALT-DESC;FMTTYPE=text/html:We will be doing an outdoor trick or treat event on Friday\, October 30th from 4pm to 6pm. Residents will be viewing from outside but will be required to stay on the sidewalk around the circle drive and others will be viewing from their windows. Masks are required at all times. We ask you not to go over to a resident or move through the residents in their viewing areas. We do anticipate parking to be full as no parking in the circle drive will be available. It will be street parking and in the two far south lots of the main entrance. Residents are excited to see all the costumes!
LOCATION:Kinship Pointe Northridge
UID:e.1404.18768
SEQUENCE:3
DTSTAMP:20260424T204934Z
URL:https://members.kearneycoc.org/events/details/outdoor-trick-or-treat-parade-18768
END:VEVENT

END:VCALENDAR
