BEGIN:VCALENDAR
VERSION:2.0
PRODID:-//ChamberMaster//Event Calendar 2.0//EN
METHOD:PUBLISH
X-PUBLISHED-TTL:P3D
REFRESH-INTERVAL:P3D
CALSCALE:GREGORIAN
BEGIN:VEVENT
DTSTART:20220831T130000Z
DTEND:20220831T140000Z
X-MICROSOFT-CDO-ALLDAYEVENT:FALSE
SUMMARY:Overcoming Imposter Syndrome Webinar
DESCRIPTION:Do you often feel as though you're a fraud\, or don't belong? Do you have negative thoughts running through your head telling you\, "I can't do this" or that you "don't deserve" that? Does your mind replay mistakes you've made no matter how insignificant or long ago they occurred?\n\n\n\nIf this sounds familiar\, you might have imposter syndrome. Imposter syndrome is a pervasive feeling of self-doubt and insecurity despite often overwhelming evidence to the contrary. This phenomenon strikes smart\, successful individuals and often shows up at its worst after an especially notable accomplishment. \n\n\n\nDuring this experience\, my goal is to explain what imposter syndrome is\, discuss where it comes from\, how it presents itself in different ways\, and share techniques for overcoming it. I've created this experience as a way to help people like you define\, label\, and work through feelings of insecurity so that you can enjoy all the successes you've earned.
X-ALT-DESC;FMTTYPE=text/html:Do you often feel as though you&rsquo\;re a fraud\, or don&rsquo\;t belong? Do you have negative thoughts running through your head telling you\, &ldquo\;I can&rsquo\;t do this&rdquo\; or that you &ldquo\;don&rsquo\;t deserve&rdquo\; that? Does your mind replay mistakes you&rsquo\;ve made no matter how insignificant or long ago they occurred?<br />\n<br />\nIf this sounds familiar\, you might have imposter syndrome. Imposter syndrome is a pervasive feeling of self-doubt and insecurity despite often overwhelming evidence to the contrary. This phenomenon strikes smart\, successful individuals and often shows up at its worst after an especially notable accomplishment.&nbsp\;<br />\n<br />\nDuring this experience\, my goal is to explain what imposter syndrome is\, discuss where it comes from\, how it presents itself in different ways\, and share techniques for overcoming it. I&rsquo\;ve created this experience as a way to help people like you define\, label\, and work through feelings of insecurity so that you can enjoy all the successes you&rsquo\;ve earned.
LOCATION:https://risingtideld.leadingthebest.com/OISW0001
UID:e.1404.20062
SEQUENCE:3
DTSTAMP:20260421T104020Z
URL:https://members.kearneycoc.org/events/details/overcoming-imposter-syndrome-webinar-20062
END:VEVENT

END:VCALENDAR
