BEGIN:VCALENDAR
VERSION:2.0
PRODID:-//ChamberMaster//Event Calendar 2.0//EN
METHOD:PUBLISH
X-PUBLISHED-TTL:P3D
REFRESH-INTERVAL:P3D
CALSCALE:GREGORIAN
BEGIN:VEVENT
DTSTART:20190316T000500Z
DTEND:20190316T020000Z
X-MICROSOFT-CDO-ALLDAYEVENT:FALSE
SUMMARY:Pack it in Purple: Tri-City Storm vs. Lincoln Stars
DESCRIPTION:Pack it in Purple: Tri-City Storm vs. Lincoln Stars\n\nPresented by Sayler Screenprinting\n\nIncludes $5 Kids Friday\, Giveaway\, Post Game Skate\, Jerseys Off Our Backs
X-ALT-DESC;FMTTYPE=text/html:Pack it in Purple: Tri-City Storm vs. Lincoln Stars<br />\n<span style="color:#333333\;"><span style="font-family:arial\,sans-serif\;"><span style="font-size:10.0pt\;"><span style="background:white\;"><span style="font-variant-ligatures:normal\;font-variant-caps:normal\;orphans:2\;text-align:start\;widows:2\;-webkit-text-stroke-width:0px\;text-decoration-style:initial\;float:none\;word-spacing:0px\;">Presented by&nbsp\;Sayler Screenprinting<br />\nIncludes $5 Kids Friday\, Giveaway\, Post Game Skate\, Jerseys Off Our Backs</span></span></span></span></span>
LOCATION:Viaero Event Center
UID:e.1404.13983
SEQUENCE:3
DTSTAMP:20260426T033533Z
URL:https://members.kearneycoc.org/events/details/pack-it-in-purple-tri-city-storm-vs-lincoln-stars-13983
END:VEVENT

END:VCALENDAR
