BEGIN:VCALENDAR
VERSION:2.0
PRODID:-//ChamberMaster//Event Calendar 2.0//EN
METHOD:PUBLISH
X-PUBLISHED-TTL:P3D
REFRESH-INTERVAL:P3D
CALSCALE:GREGORIAN
BEGIN:VEVENT
DTSTART;VALUE=DATE:20130504
DTEND;VALUE=DATE:20130505
TRANSP:TRANSPARENT
X-MICROSOFT-CDO-ALLDAYEVENT:TRUE
SUMMARY:Paddle In The Platte
DESCRIPTION:10 to 23 mile canoe/kayak race on the Platte River near Kearney.\n\n	On line registration closes April 26 at http://www.raceregister.net/RaceRegister/event?action=view&id=107 \n\n	THIS WILL BE LIMITED TO 50 CANOES / KAYAKS!!!!!\n\n	Fees include: shirts\, food\, prizes. Food and refreshments after the event.\n\n	PART OF THE PROCEEDS GO TO THE WATER TRAILS OF NEBRASKA \n\n	Big thanks to Cabela's\, Nebraska Trails Council\, Kearney Whitewater\, Kearney Parks and Recreation and Nebraska Game & Parks.\n\n	Go to www.angrycowadventures.com for updates.
X-ALT-DESC;FMTTYPE=text/html:<div>\n	10 to 23 mile canoe/kayak race on the Platte River near Kearney.</div>\n<div>\n	On line registration closes April 26 at http://www.raceregister.net/RaceRegister/event?action=view&amp\;id=107&nbsp\;</div>\n<div>\n	THIS WILL BE LIMITED TO 50 CANOES / KAYAKS!!!!!</div>\n<div>\n	Fees include: shirts\, food\, prizes. Food and refreshments after the event.</div>\n<div>\n	PART OF THE PROCEEDS GO TO THE WATER TRAILS OF NEBRASKA&nbsp\;</div>\n<div>\n	Big thanks to Cabela&#39\;s\, Nebraska Trails Council\, Kearney Whitewater\, Kearney Parks and Recreation and Nebraska Game &amp\; Parks.</div>\n<div>\n	Go to www.angrycowadventures.com for updates.</div>\n
LOCATION:Union Pacific SRA\, 1020 V Rd\, Kearney\, NE 68847
UID:e.1404.2500
SEQUENCE:3
DTSTAMP:20260424T122343Z
URL:https://members.kearneycoc.org/events/details/paddle-in-the-platte-05-04-2013-2500
END:VEVENT

END:VCALENDAR
