BEGIN:VCALENDAR
VERSION:2.0
PRODID:-//ChamberMaster//Event Calendar 2.0//EN
METHOD:PUBLISH
X-PUBLISHED-TTL:P3D
REFRESH-INTERVAL:P3D
CALSCALE:GREGORIAN
BEGIN:VEVENT
DTSTART:20161105T220000Z
DTEND:20161106T043000Z
X-MICROSOFT-CDO-ALLDAYEVENT:FALSE
SUMMARY:Paint the Town Red: A Party with a Purpose
DESCRIPTION:Hosted by Xpanxion in conjunction with the Kearney High School Foundation\, Paint the Town Red is a fundraising event with proceeds going to the Kearney High School IT\, Business\, and Marketing department.  Dollars will promote youth to pursue in-demand IT careers by funding critical items to make classes\, equipment\, and personnel available for students to learn necessary skills to be successful in the workforce of today and tomorrow.\n\n\n\nAttendees can expect a night of festivities\, dinner\, entertainment\, and more!
X-ALT-DESC;FMTTYPE=text/html:Hosted by Xpanxion in conjunction with the Kearney High School Foundation\, <em>Paint the Town Red</em> is a fundraising event with proceeds going to the Kearney High School IT\, Business\, and Marketing department. &nbsp\;Dollars will promote youth to pursue in-demand IT careers by funding critical items to make classes\, equipment\, and personnel available for students to learn necessary skills to be successful in the workforce of today and tomorrow.<br />\n<br />\nAttendees can expect a night of festivities\, dinner\, entertainment\, and more!
LOCATION:Younes Conference Center
UID:e.1404.8534
SEQUENCE:3
DTSTAMP:20260421T122929Z
URL:https://members.kearneycoc.org/events/details/paint-the-town-red-a-party-with-a-purpose-11-05-2016-8534
END:VEVENT

END:VCALENDAR
