BEGIN:VCALENDAR
VERSION:2.0
PRODID:-//ChamberMaster//Event Calendar 2.0//EN
METHOD:PUBLISH
X-PUBLISHED-TTL:P3D
REFRESH-INTERVAL:P3D
CALSCALE:GREGORIAN
BEGIN:VEVENT
DTSTART:20151006T210000Z
DTEND:20151007T010000Z
X-MICROSOFT-CDO-ALLDAYEVENT:FALSE
SUMMARY:Pamela Smith Hill
DESCRIPTION:Pamela Smith Hill - Author of Pioneer Girl: The Annotated Biography of Laura Ingalls Wilder.
X-ALT-DESC;FMTTYPE=text/html:Pamela Smith Hill - Author of Pioneer Girl: The Annotated Biography of Laura Ingalls Wilder.
LOCATION:4pm - Copeland Hall\, Room 142\, UNK 7pm - Kearney Public Library
UID:e.1404.6688
SEQUENCE:3
DTSTAMP:20260422T100558Z
URL:https://members.kearneycoc.org/events/details/pamela-smith-hill-10-06-2015-6688
END:VEVENT

END:VCALENDAR
