BEGIN:VCALENDAR
VERSION:2.0
PRODID:-//ChamberMaster//Event Calendar 2.0//EN
METHOD:PUBLISH
X-PUBLISHED-TTL:P3D
REFRESH-INTERVAL:P3D
CALSCALE:GREGORIAN
BEGIN:VEVENT
DTSTART:20141011T150000Z
DTEND:20141011T220000Z
X-MICROSOFT-CDO-ALLDAYEVENT:FALSE
SUMMARY:Parade of Homes
DESCRIPTION:The Kearney Area Builders Association will have their Annual Parade of Homes. The parade will feature 10 homes! Don't miss this opportunity to see the newest trends and the wonderful craftsmanship of the builders.
X-ALT-DESC;FMTTYPE=text/html:The Kearney Area Builders Association will have their Annual Parade of Homes. The parade will feature 10 homes! Don&#39\;t miss this opportunity to see the newest trends and the wonderful craftsmanship of the builders.
LOCATION:Buy tickets at Showcase Cabinets/Jacobi Carpets or Garrett Tires
UID:e.1404.5376
SEQUENCE:3
DTSTAMP:20260423T051736Z
URL:https://members.kearneycoc.org/events/details/parade-of-homes-10-11-2014-5376
END:VEVENT

END:VCALENDAR
