BEGIN:VCALENDAR
VERSION:2.0
PRODID:-//ChamberMaster//Event Calendar 2.0//EN
METHOD:PUBLISH
X-PUBLISHED-TTL:P3D
REFRESH-INTERVAL:P3D
CALSCALE:GREGORIAN
BEGIN:VEVENT
DTSTART:20191106T180000Z
DTEND:20191106T190000Z
X-MICROSOFT-CDO-ALLDAYEVENT:FALSE
SUMMARY:Partners in Possibilities Fundraising Luncheon
DESCRIPTION:Please join Mosaic for their Partners in Possibilities Fundraiser.
X-ALT-DESC;FMTTYPE=text/html:Please join Mosaic for their Partners in Possibilities Fundraiser.&nbsp\;
LOCATION:Minden Opera House 322 E 5th St. Minden NE 68959
UID:e.1404.18244
SEQUENCE:3
DTSTAMP:20260425T150322Z
URL:https://members.kearneycoc.org/events/details/partners-in-possibilities-fundraising-luncheon-18244
END:VEVENT

END:VCALENDAR
