BEGIN:VCALENDAR
VERSION:2.0
PRODID:-//ChamberMaster//Event Calendar 2.0//EN
METHOD:PUBLISH
X-PUBLISHED-TTL:P3D
REFRESH-INTERVAL:P3D
CALSCALE:GREGORIAN
BEGIN:VEVENT
DTSTART:20190726T130000Z
DTEND:20190726T200000Z
X-MICROSOFT-CDO-ALLDAYEVENT:FALSE
SUMMARY:Passport Explorers Camp
DESCRIPTION:Children will explore the globe through activities about other cultures\, weather\, forms of travel\, and the amazing animals that are on our planet!\n\nAges 4-10\n\nChildren need to bring a sack lunch\n\n\n\nActivities will include:\n\n1. STEM activity teaching about land formations\n\n2. Creating our own animal and choosing it's habitat\n\n3. Practice writing in another language\n\n4. Researching various cloud formations
X-ALT-DESC;FMTTYPE=text/html:Children will explore the globe through activities about other cultures\, weather\, forms of travel\, and the amazing animals that are on our planet!<br />\nAges 4-10<br />\nChildren need to bring a sack lunch<br />\n<br />\nActivities will include:<br />\n1. STEM activity teaching about land formations<br />\n2. Creating our own animal and choosing it&#39\;s habitat<br />\n3. Practice writing in another language<br />\n4. Researching various cloud formations<br />\n&nbsp\;
LOCATION:Kearney Area Children's Museum Alia Arram Memorial Building 5827 4th Avenue\, Kearney\, NE 68845
UID:e.1404.16563
SEQUENCE:3
DTSTAMP:20260425T212724Z
URL:https://members.kearneycoc.org/events/details/passport-explorers-camp-16563
END:VEVENT

END:VCALENDAR
