BEGIN:VCALENDAR
VERSION:2.0
PRODID:-//ChamberMaster//Event Calendar 2.0//EN
METHOD:PUBLISH
X-PUBLISHED-TTL:P3D
REFRESH-INTERVAL:P3D
CALSCALE:GREGORIAN
BEGIN:VEVENT
DTSTART:20131026T190000Z
DTEND:20131026T230000Z
X-MICROSOFT-CDO-ALLDAYEVENT:FALSE
SUMMARY:Paul Frederick Fundraiser
DESCRIPTION:Hog Roast\, Husker Game\, Poker Tournament\, Silent Auction
X-ALT-DESC;FMTTYPE=text/html:Hog Roast\, Husker Game\, Poker Tournament\, Silent Auction
LOCATION:American Legion 1223 Central Ave Kearney\, NE
UID:e.1404.3326
SEQUENCE:3
DTSTAMP:20260424T003258Z
URL:https://members.kearneycoc.org/events/details/paul-frederick-fundraiser-10-26-2013-3326
END:VEVENT

END:VCALENDAR
