BEGIN:VCALENDAR
VERSION:2.0
PRODID:-//ChamberMaster//Event Calendar 2.0//EN
METHOD:PUBLISH
X-PUBLISHED-TTL:P3D
REFRESH-INTERVAL:P3D
CALSCALE:GREGORIAN
BEGIN:VEVENT
DTSTART:20210705T140000Z
DTEND:20210705T170000Z
X-MICROSOFT-CDO-ALLDAYEVENT:FALSE
SUMMARY:Paw Patrol for a Day! Camp
DESCRIPTION:Explore Theater Camp with Crane River Theater Company for Ages 4-6
X-ALT-DESC;FMTTYPE=text/html:Explore Theater Camp with Crane River Theater Company for Ages 4-6
LOCATION:Kearney Area Children's Museum
UID:e.1404.19279
SEQUENCE:3
DTSTAMP:20260424T035826Z
URL:https://members.kearneycoc.org/events/details/paw-patrol-for-a-day-camp-19279
END:VEVENT

END:VCALENDAR
