BEGIN:VCALENDAR
VERSION:2.0
PRODID:-//ChamberMaster//Event Calendar 2.0//EN
METHOD:PUBLISH
X-PUBLISHED-TTL:P3D
REFRESH-INTERVAL:P3D
CALSCALE:GREGORIAN
BEGIN:VEVENT
DTSTART:20131215T013000Z
DTEND:20131215T050000Z
X-MICROSOFT-CDO-ALLDAYEVENT:FALSE
SUMMARY:PBR
DESCRIPTION:PBR Touring Pro Division
X-ALT-DESC;FMTTYPE=text/html:PBR Touring Pro Division&nbsp\;&nbsp\;&nbsp\;&nbsp\;
LOCATION:Buffalo County Fairgrounds Expo Building
UID:e.1404.3349
SEQUENCE:3
DTSTAMP:20260423T230954Z
URL:https://members.kearneycoc.org/events/details/pbr-12-14-2013-3349
END:VEVENT

END:VCALENDAR
