BEGIN:VCALENDAR
VERSION:2.0
PRODID:-//ChamberMaster//Event Calendar 2.0//EN
METHOD:PUBLISH
X-PUBLISHED-TTL:P3D
REFRESH-INTERVAL:P3D
CALSCALE:GREGORIAN
BEGIN:VEVENT
DTSTART:20161012T210000Z
DTEND:20161012T230000Z
X-MICROSOFT-CDO-ALLDAYEVENT:FALSE
SUMMARY:PenAir Meet & Greet
DESCRIPTION:Join us in welcoming PenAir to Kearney!
X-ALT-DESC;FMTTYPE=text/html:Join us in welcoming PenAir to Kearney!
LOCATION:Corporate Hangar 4895 Airport Road
UID:e.1404.9027
SEQUENCE:3
DTSTAMP:20260421T122458Z
URL:https://members.kearneycoc.org/events/details/penair-meet-greet-9027
END:VEVENT

END:VCALENDAR
