BEGIN:VCALENDAR
VERSION:2.0
PRODID:-//ChamberMaster//Event Calendar 2.0//EN
METHOD:PUBLISH
X-PUBLISHED-TTL:P3D
REFRESH-INTERVAL:P3D
CALSCALE:GREGORIAN
BEGIN:VEVENT
DTSTART:20191026T220000Z
DTEND:20191026T230000Z
X-MICROSOFT-CDO-ALLDAYEVENT:FALSE
SUMMARY:Pet Costume Parade
DESCRIPTION:Join us for a pet costume parade at the mall. Bring your dressed up furry friends and parade around the mall. We will have special treats for the parade participants! We will also have a costume contest!
X-ALT-DESC;FMTTYPE=text/html:Join us for a pet costume parade at the mall. Bring your dressed up furry friends and parade around the mall. We will have special treats for the parade participants! We will also have a costume contest!
LOCATION:Hilltop Mall
UID:e.1404.18145
SEQUENCE:3
DTSTAMP:20260425T163722Z
URL:https://members.kearneycoc.org/events/details/pet-costume-parade-18145
END:VEVENT

END:VCALENDAR
