BEGIN:VCALENDAR
VERSION:2.0
PRODID:-//ChamberMaster//Event Calendar 2.0//EN
METHOD:PUBLISH
X-PUBLISHED-TTL:P3D
REFRESH-INTERVAL:P3D
CALSCALE:GREGORIAN
BEGIN:VEVENT
DTSTART:20141029T190000Z
DTEND:20141030T010000Z
X-MICROSOFT-CDO-ALLDAYEVENT:FALSE
SUMMARY:Phantoms at the Frank House
DESCRIPTION:Join us for our annual Phantoms at the Frank House event\, this year presented in partnership with UNK's Trick or Treat Street. Take your kids trick or treating through the UNK dorms\, and then stop by the Frank House for candy\, punch\, art activities\, and games. Throughout the day\, our costumed interpreters will also be reading 'spooky' Victorian-era cautionary tales. Fun for the whole family!
X-ALT-DESC;FMTTYPE=text/html:Join us for our annual Phantoms at the Frank House event\, this year presented in partnership with UNK&#39\;s Trick or Treat Street. Take your kids trick or treating through the UNK dorms\, and then stop by the Frank House for candy\, punch\, art activities\, and games. Throughout the day\, our costumed interpreters will also be reading &#39\;spooky&#39\; Victorian-era cautionary tales. Fun for the whole family!
LOCATION:UNK Frank House
UID:e.1404.5391
SEQUENCE:3
DTSTAMP:20260423T051322Z
URL:https://members.kearneycoc.org/events/details/phantoms-at-the-frank-house-10-29-2014-5391
END:VEVENT

END:VCALENDAR
